BEGIN:VCALENDAR
VERSION:2.0
PRODID:-//Squarespace Inc/Squarespace 6//v6//EN
BEGIN:VEVENT
UID:5436394ce4b0fa731fcac8df@squarespace.com
DTSTAMP:20141009T082017Z
DTSTART:20141129T200000Z
DTEND:20141130T040000Z
SUMMARY:Blenheim Workshop
END:VEVENT
END:VCALENDAR
