BEGIN:VCALENDAR
VERSION:2.0
PRODID:-//Squarespace Inc/Squarespace 6//v6//EN
BEGIN:VEVENT
UID:53d76225e4b03775e0db9cae@squarespace.com
DTSTAMP:20140730T092743Z
DTSTART:20140927T200000Z
DTEND:20140928T040000Z
SUMMARY:Mount Workshop
END:VEVENT
END:VCALENDAR
