BEGIN:VCALENDAR
VERSION:2.0
PRODID:-//Squarespace Inc/Squarespace 6//v6//EN
BEGIN:VEVENT
UID:56007ee2e4b0393c92dc61bc@squarespace.com
DTSTAMP:20150921T231835Z
DTSTART:20151002T200000Z
DTEND:20151003T040000Z
SUMMARY:RX Clinic Napier 
END:VEVENT
END:VCALENDAR
