BEGIN:VCALENDAR
VERSION:2.0
PRODID:-//Squarespace Inc/Squarespace 6//v6//EN
BEGIN:VEVENT
UID:5613349ae4b0caad26ae05fb@squarespace.com
DTSTAMP:20151006T082559Z
DTSTART:20151107T200000Z
DTEND:20151108T040000Z
SUMMARY:RX Clinic New Plymouth 
END:VEVENT
END:VCALENDAR
