BEGIN:VCALENDAR
VERSION:2.0
PRODID:-//Squarespace Inc/Squarespace 6//v6//EN
BEGIN:VEVENT
UID:54cb155ce4b0e2b37571598f@squarespace.com
DTSTAMP:20150221T003944Z
DTSTART:20150221T200000Z
DTEND:20150222T040000Z
SUMMARY:Open Prep Workshop
END:VEVENT
END:VCALENDAR
