BEGIN:VCALENDAR
VERSION:2.0
PRODID:-//Squarespace Inc/Squarespace 6//v6//EN
BEGIN:VEVENT
UID:5564420ee4b08b2ebc7289a0@squarespace.com
DTSTAMP:20150531T042101Z
DTSTART:20150613T210000Z
DTEND:20150614T050000Z
SUMMARY:CrossFit Porirua Workshop
END:VEVENT
END:VCALENDAR
