BEGIN:VCALENDAR
VERSION:2.0
PRODID:-//Squarespace Inc/Squarespace 6//v6//EN
BEGIN:VEVENT
UID:5694c21d7086d7392002f70c@squarespace.com
DTSTAMP:20160208T090642Z
DTSTART:20160213T200000Z
DTEND:20160214T040000Z
SUMMARY:Rx Clinic CrossFit 275
END:VEVENT
END:VCALENDAR
