BEGIN:VCALENDAR
VERSION:2.0
PRODID:-//Squarespace Inc/Squarespace 6//v6//EN
BEGIN:VEVENT
UID:5312abc3e4b0defc6744b698@squarespace.com
DTSTAMP:20140504T043948Z
DTSTART:20140509T210000Z
DTEND:20140510T040000Z
SUMMARY:Clinic Alpha
GEO:-36.91278;174.927409
LOCATION:129 Meadowland Drive\, Auckland\, New Zealand
END:VEVENT
END:VCALENDAR
