BEGIN:VCALENDAR
VERSION:2.0
PRODID:-//Squarespace Inc/Squarespace 6//v6//EN
BEGIN:VEVENT
UID:531c1507e4b0f741e5dc510f@squarespace.com
DTSTAMP:20140423T102823Z
DTSTART:20140718T210000Z
DTEND:20140719T040000Z
SUMMARY:Clinic Beta
GEO:-36.91278;174.927409
LOCATION:Auckland\, New Zealand
END:VEVENT
END:VCALENDAR
