BEGIN:VCALENDAR
VERSION:2.0
PRODID:-//Squarespace Inc/Squarespace 6//v6//EN
BEGIN:VEVENT
UID:53376fdde4b0634b8d1343d1@squarespace.com
DTSTAMP:20140423T110100Z
DTSTART:20140711T040000Z
DTEND:20140711T080000Z
SUMMARY:Fitness Expo
END:VEVENT
END:VCALENDAR
