BEGIN:VCALENDAR
VERSION:2.0
PRODID:-//Squarespace Inc/Squarespace 6//v6//EN
BEGIN:VEVENT
UID:543308e9e4b03abd08f81b1d@squarespace.com
DTSTAMP:20141007T083534Z
DTSTART:20141128T200000Z
DTEND:20141129T040000Z
SUMMARY:Nelson Workshop
GEO:-41.298354;173.237181
LOCATION:CrossFit Nelson\, 78 Quarantine Rd\, Nelson\, Nelson\, 7011\, New 
 Zealand
END:VEVENT
END:VCALENDAR
